BEGIN:VCALENDAR
VERSION:2.0
PRODID:-//Rural Community College Alliance - ECPv6.14.2//NONSGML v1.0//EN
CALSCALE:GREGORIAN
METHOD:PUBLISH
X-ORIGINAL-URL:https://ruralccalliance.org
X-WR-CALDESC:Events for Rural Community College Alliance
REFRESH-INTERVAL;VALUE=DURATION:PT1H
X-Robots-Tag:noindex
X-PUBLISHED-TTL:PT1H
BEGIN:VTIMEZONE
TZID:America/Los_Angeles
BEGIN:DAYLIGHT
TZOFFSETFROM:-0800
TZOFFSETTO:-0700
TZNAME:PDT
DTSTART:20250309T100000
END:DAYLIGHT
BEGIN:STANDARD
TZOFFSETFROM:-0700
TZOFFSETTO:-0800
TZNAME:PST
DTSTART:20251102T090000
END:STANDARD
END:VTIMEZONE
BEGIN:VEVENT
DTSTART;TZID=America/Los_Angeles:20251119T100000
DTEND;TZID=America/Los_Angeles:20251119T110000
DTSTAMP:20260423T165924
CREATED:20251002T142544Z
LAST-MODIFIED:20251002T142544Z
UID:4365-1763546400-1763550000@ruralccalliance.org
SUMMARY:Rural Community College Economic and Workforce Development in Iowa
DESCRIPTION:Iowa’s 15 community colleges are classified as rural.  The rural community college serves as a mechanism for economic and workforce development in the communities they serve.  This presentation will provide an overview and discussion of innovative economic and workforce development programs at Iowa community colleges\, their purpose and function\, and funding mechanisms.  The programs include the Iowa Skilled Worker and Job Creation fund\, the Iowa Industrial New Jobs Training Program  and the Iowa Jobs Training Program
URL:https://ruralccalliance.org/event/rural-community-college-economic-and-workforce-development-in-iowa/
END:VEVENT
END:VCALENDAR