BEGIN:VCALENDAR
VERSION:2.0
PRODID:-//Rural Community College Alliance - ECPv6.14.2//NONSGML v1.0//EN
CALSCALE:GREGORIAN
METHOD:PUBLISH
X-ORIGINAL-URL:https://ruralccalliance.org
X-WR-CALDESC:Events for Rural Community College Alliance
REFRESH-INTERVAL;VALUE=DURATION:PT1H
X-Robots-Tag:noindex
X-PUBLISHED-TTL:PT1H
BEGIN:VTIMEZONE
TZID:America/Los_Angeles
BEGIN:DAYLIGHT
TZOFFSETFROM:-0800
TZOFFSETTO:-0700
TZNAME:PDT
DTSTART:20250309T100000
END:DAYLIGHT
BEGIN:STANDARD
TZOFFSETFROM:-0700
TZOFFSETTO:-0800
TZNAME:PST
DTSTART:20251102T090000
END:STANDARD
END:VTIMEZONE
BEGIN:VEVENT
DTSTART;TZID=America/Los_Angeles:20251022T110000
DTEND;TZID=America/Los_Angeles:20251022T120000
DTSTAMP:20260423T185816
CREATED:20251002T142143Z
LAST-MODIFIED:20251002T142143Z
UID:4362-1761130800-1761134400@ruralccalliance.org
SUMMARY:Supporting Rural Students Together: RCCA and WGU Partnership Launch
DESCRIPTION:Join RCCA and Western Governors University (WGU) for an inside look at our new partnership designed to expand opportunities for rural learners. Through this collaboration\, graduates and employees of RCCA member colleges gain seamless transfer pathways into WGU’s online degree and certificate programs\, application fee waivers\, and access to the Community College Partner Scholarship—valued at up to $3\,500. \nThis session will highlight how the partnership supports rural students to “stay local\, learn local\, and grow within their communities\,” while offering RCCA institutions new tools to strengthen student success and workforce alignment.
URL:https://ruralccalliance.org/event/supporting-rural-students-together-rcca-and-wgu-partnership-launch/
END:VEVENT
END:VCALENDAR