BEGIN:VCALENDAR
VERSION:2.0
PRODID:-//Rural Community College Alliance - ECPv6.14.2//NONSGML v1.0//EN
CALSCALE:GREGORIAN
METHOD:PUBLISH
X-WR-CALNAME:Rural Community College Alliance
X-ORIGINAL-URL:https://ruralccalliance.org
X-WR-CALDESC:Events for Rural Community College Alliance
REFRESH-INTERVAL;VALUE=DURATION:PT1H
X-Robots-Tag:noindex
X-PUBLISHED-TTL:PT1H
BEGIN:VTIMEZONE
TZID:America/Los_Angeles
BEGIN:DAYLIGHT
TZOFFSETFROM:-0800
TZOFFSETTO:-0700
TZNAME:PDT
DTSTART:20260308T100000
END:DAYLIGHT
BEGIN:STANDARD
TZOFFSETFROM:-0700
TZOFFSETTO:-0800
TZNAME:PST
DTSTART:20261101T090000
END:STANDARD
END:VTIMEZONE
BEGIN:VTIMEZONE
TZID:America/Detroit
BEGIN:DAYLIGHT
TZOFFSETFROM:-0500
TZOFFSETTO:-0400
TZNAME:EDT
DTSTART:20260308T070000
END:DAYLIGHT
BEGIN:STANDARD
TZOFFSETFROM:-0400
TZOFFSETTO:-0500
TZNAME:EST
DTSTART:20261101T060000
END:STANDARD
END:VTIMEZONE
BEGIN:VEVENT
DTSTART;TZID=America/Los_Angeles:20260226T110000
DTEND;TZID=America/Los_Angeles:20260226T120000
DTSTAMP:20260423T185943
CREATED:20260128T205823Z
LAST-MODIFIED:20260128T205823Z
UID:4510-1772103600-1772107200@ruralccalliance.org
SUMMARY:Expanding Possibilities: Helping Rural and Appalachian Students and their Communities Thrive
DESCRIPTION:Join us to explore how innovative partnerships are expanding educational and career opportunities for rural and Appalachian students—empowering them to build successful futures within their own communities. Hear firsthand from a graduate who leveraged local and online education to launch a rewarding career close to home\, and from a community college provost on how collaboration is increasing access and strengthening the local workforce. Learn how alliances among community colleges and education partners are opening new doors for students\, and discover future innovations designed to help rural learners and their communities thrive together. \nGuest Panelists: \nDanny Paquette \nSenior Data Analyst\, Institutional Analytics and Research \nWestern Governors University \n  \nGiovanni Plascencia \nSolutions Developer \nCollege of Southern Idaho (Member RCCA) \nWGU & CSI Graduate \n  \nMelissa Wertz\, Ed.D. \nProvost and Chief Academic Officer \nEdison State Community College (Member CCA) \n  \nFacilitators: \nChristy Seawall \nSenior Transfer Partner Executive (RCCA) \nWestern Governors University \n\nKrista Spencer \nSenior Transfer Partner Executive (CCA) \nWestern Governors University
URL:https://ruralccalliance.org/event/expanding-possibilities-helping-rural-and-appalachian-students-and-their-communities-thrive/
END:VEVENT
BEGIN:VEVENT
DTSTART;TZID=America/Los_Angeles:20260318T110000
DTEND;TZID=America/Los_Angeles:20260318T120000
DTSTAMP:20260423T185943
CREATED:20251002T144231Z
LAST-MODIFIED:20260312T205204Z
UID:4372-1773831600-1773835200@ruralccalliance.org
SUMMARY:Mentor Collective Peer Mentoring that Drives Student Success
DESCRIPTION:Discover how Mentor Collective’s peer mentoring platform helps rural community colleges foster belonging\, boost student confidence\, and improve retention. This webinar will showcase how scalable\, student-driven mentorship creates authentic connections\, delivers actionable insights into student challenges\, and directs learners to the support they need—when they need it.
URL:https://ruralccalliance.org/event/mentor-collective-peer-mentoring-that-drives-student-success/
END:VEVENT
BEGIN:VEVENT
DTSTART;TZID=America/Los_Angeles:20260415T100000
DTEND;TZID=America/Los_Angeles:20260415T110000
DTSTAMP:20260423T185943
CREATED:20251125T203756Z
LAST-MODIFIED:20260324T135756Z
UID:4494-1776247200-1776250800@ruralccalliance.org
SUMMARY:Toolkit of Resources: Using Technology to Support Postsecondary Student Learning.
DESCRIPTION:How can colleges leverage technology to strengthen student learning outcomes? \nJoin us for an interactive session designed to help colleges use technology with purpose. This\nsession will introduce a research-based practice guide and toolkit focused on strengthening\nstudent learning in the college classroom. \nTogether\, we’ll highlight practical\, evidence-based recommendations for using technology\neffectively\, consider how emerging tools like AI fit into the picture\, and discuss concrete next\nsteps for implementation. \nParticipants will leave with:\n● Toolkit materials to support implementation\n● Actionable ideas for the classroom\n● Access to optional support to help move from research to practice \nFacilitators\n● Patrick Moyle directs WestEd’s Digital Fluency Project and brings deep experience in\ndesigning and facilitating remote\, hybrid\, and in-person professional learning.\n● Irisa Charney-Sirott is a leader in WestEd’s Center for Teaching and Learning\,\nspecializing in technology-enhanced learning\, literacy\, and classroom-based research.\n� https://us06web.zoom.us/meeting/register/Z7WK4TdLQlqqmWydjHgOfg#/registration
URL:https://ruralccalliance.org/event/toolkit-of-resources-using-technology-to-support-postsecondary-student-learning/
END:VEVENT
BEGIN:VEVENT
DTSTART;VALUE=DATE:20260916
DTEND;VALUE=DATE:20260919
DTSTAMP:20260423T185943
CREATED:20251022T162050Z
LAST-MODIFIED:20251022T171046Z
UID:4380-1789516800-1789775999@ruralccalliance.org
SUMMARY:2026 National Conference
DESCRIPTION:  \nPlan to join us at Northwest Mississipi Community College in Senatobia Mississippi. \n  \nWatch this short video to learn more about NMCC and the Senatobia Community
URL:https://ruralccalliance.org/event/2026-national-conference/
LOCATION:Northwest Mississippi Community College\, 4975 US 51\, Senatobia\, MS\, United States
END:VEVENT
END:VCALENDAR