BEGIN:VCALENDAR
VERSION:2.0
PRODID:-//Rural Community College Alliance - ECPv6.14.2//NONSGML v1.0//EN
CALSCALE:GREGORIAN
METHOD:PUBLISH
X-ORIGINAL-URL:https://ruralccalliance.org
X-WR-CALDESC:Events for Rural Community College Alliance
REFRESH-INTERVAL;VALUE=DURATION:PT1H
X-Robots-Tag:noindex
X-PUBLISHED-TTL:PT1H
BEGIN:VTIMEZONE
TZID:America/Los_Angeles
BEGIN:DAYLIGHT
TZOFFSETFROM:-0800
TZOFFSETTO:-0700
TZNAME:PDT
DTSTART:20250309T100000
END:DAYLIGHT
BEGIN:STANDARD
TZOFFSETFROM:-0700
TZOFFSETTO:-0800
TZNAME:PST
DTSTART:20251102T090000
END:STANDARD
END:VTIMEZONE
BEGIN:VEVENT
DTSTART;TZID=America/Los_Angeles:20251217T100000
DTEND;TZID=America/Los_Angeles:20251217T110000
DTSTAMP:20260423T171704
CREATED:20251125T204255Z
LAST-MODIFIED:20251203T182634Z
UID:4498-1765965600-1765969200@ruralccalliance.org
SUMMARY:Cultivating Place-Based Civic Leadership Among Students
DESCRIPTION:Zoe Jenkins will lead an engaging webinar that will share how the program leads to transformative change by enpowering students to become leaders in a vareitey of ways. \nCivics Unplugged is shaping young leaders to build the future they want to live in by training them in the principles of civic innovation. The organization provides young leaders with the education\, support\, and intergenerational community they need to find their civic agency\,\nstrengthen their mental well-being\, and develop solutions to the challenges they care about most. Since its founding\, Civics Unplugged has supported more than 6\,000 young leaders and sparked hundreds of youth-led projects that have reached over 10 million people. \nIn this webinar\, we’ll explore: \n● How Civic Unplugged’s civic innovation curriculum can align with your academic\nprograms and community role \n● Ways to support student flourishing and combat “brain drain” in rural regions \n● Real examples of young people driving change in their hometowns \n● What partnership between Civics Unplugged and rural community colleges can look like \n� Register here:\nhttps://us06web.zoom.us/meeting/register/BznzFCk0TX-wthvRINnhsA#/registration \nWe hope you’ll join us and bring your questions\, ideas\, and experiences to the conversation.
URL:https://ruralccalliance.org/event/civics-unplugged-training-students-for-civic-innovation/
END:VEVENT
END:VCALENDAR